BEGIN:VCALENDAR
VERSION:2.0
PRODID:-//Plone.org//NONSGML plone.app.event//EN
X-WR-TIMEZONE:Europe/Madrid
BEGIN:VEVENT
SUMMARY:Elecciones a Junta de Escuela: reclamaciones contra la proclamaci
 ón provisional de las candidatas y de los candidatos electos
DTSTART;TZID=Europe/Madrid:20251201T000000
DTEND;TZID=Europe/Madrid:20251202T120000
DTSTAMP:20260424T150019Z
UID:520ada95c2544f349092d50c2a3d7a4d@epseb.upc.edu
CONTACT:https://epseb.upc.edu/es/escuela/organos-de-gobierno/procesos-elec
 torales
CREATED:20251128T115833Z
LAST-MODIFIED:20251128T115839Z
URL:https://epseb.upc.edu/es/eventos/elecciones-a-junta-de-escuela-reclama
 ciones-contra-la-proclamacion-provisional-de-las-candidatas-y-de-los-candi
 datos-electos
END:VEVENT
BEGIN:VTIMEZONE
TZID:Europe/Madrid
X-LIC-LOCATION:Europe/Madrid
BEGIN:STANDARD
DTSTART:20251026T020000
TZNAME:CET
TZOFFSETFROM:+0200
TZOFFSETTO:+0100
END:STANDARD
END:VTIMEZONE
END:VCALENDAR
